BEGIN:VCALENDAR
METHOD:PUBLISH
PRODID:https://www.sintef.no
VERSION:2.0
BEGIN:VEVENT
DESCRIPTION:How can we achieve climate-neutral aviation by 2050?
DTEND:20220825T150000
DTSTAMP:20260424T104511Z
DTSTART:20220825T133000
LOCATION:Webinar
SEQUENCE:0
SUMMARY:Green Aviation Talks: Taking off for Sustainable Aviation
UID:a0138c3c-d80a-4432-b121-40ccf9e4682b
END:VEVENT
END:VCALENDAR
