BEGIN:VCALENDAR
METHOD:PUBLISH
PRODID:https://www.sintef.no
VERSION:2.0
BEGIN:VEVENT
DESCRIPTION:Carbon Dioxide Removal is essential to meet net-zero goals.
DTEND:20221110T130000
DTSTAMP:20260424T150131Z
DTSTART:20221110T120000
LOCATION:Bellona foundation\, Blue Zone\, Delegation pavilions 4\, P82\, S
 harm El Sheikh International Convention Centre (SHICC)\, El Salam Road\, 
 in Sharm El Sheikh\, Egypt
SEQUENCE:0
SUMMARY:COP27/Bellona event: Global governance of CDR: carbon accounting o
 f transboundary projects [Video]
UID:86ef8ebf-ce7a-4566-95fe-9395ffaa22a0
END:VEVENT
END:VCALENDAR
