BEGIN:VCALENDAR
METHOD:PUBLISH
PRODID:https://www.sintef.no
VERSION:2.0
BEGIN:VEVENT
DESCRIPTION:The Northern Lights Joint Venture (JV) is developing the world
 ’s first open-source CO2 transport and storage infrastructure\, deliverin
 g carbon storage as a service.
DTEND:20220929T133000
DTSTAMP:20260421T102709Z
DTSTART:20220929T130000
LOCATION:Webinar
SEQUENCE:0
SUMMARY:Full-scale CO2 storage: a perspective from the Northern Lights Joi
 nt Venture
UID:b2ef52ef-f10b-4bd9-9011-67beebd9c190
END:VEVENT
END:VCALENDAR
