BEGIN:VCALENDAR
METHOD:PUBLISH
PRODID:https://www.sintef.no
VERSION:2.0
BEGIN:VEVENT
DESCRIPTION:Our experimental data helps the development of models describi
 ng the depressurization of CO2 pipes or vessels\, and the flow through va
 lves.
DTEND:20221006T133000
DTSTAMP:20260421T102707Z
DTSTART:20221006T130000
LOCATION:Webinar
SEQUENCE:0
SUMMARY:Experiments and modelling of choked flow of CO2 in orifices and no
 zzles
UID:c7a10114-a29d-4f01-b482-8b2669437a70
END:VEVENT
END:VCALENDAR
