BEGIN:VCALENDAR
METHOD:PUBLISH
PRODID:https://www.sintef.no
VERSION:2.0
BEGIN:VEVENT
DESCRIPTION:In the context of CO2 storage\, experimental estimation of por
 omechanical properties of overburden shales is one of the crucial element
 s of their sealing quality and integrity assessment.
DTEND:20220929T140000
DTSTAMP:20260421T102611Z
DTSTART:20220929T133000
LOCATION:Webinar
SEQUENCE:0
SUMMARY:Effects of plastic deformation on poroelastic pore pressure coeffi
 cients
UID:37192131-fb14-48aa-b9b5-7589324b9333
END:VEVENT
END:VCALENDAR
