BEGIN:VCALENDAR
METHOD:PUBLISH
PRODID:https://www.sintef.no
VERSION:2.0
BEGIN:VEVENT
DESCRIPTION:The British Geological Survey is a world leader in CCS with ov
 er 20 years' experience at the forefront of CO2 storage research and incl
 udes the largest dedicated UK storage research group.
DTEND:20221018T140000
DTSTAMP:20260421T085014Z
DTSTART:20221018T133000
LOCATION:Webinar
SEQUENCE:0
SUMMARY:Construction and utilisation of a geological and geomechanical mod
 el of the Southern North Sea focusing on the Bunter Sandstone
UID:c081f1a9-3623-435e-bbfd-c4e38e3568f7
END:VEVENT
END:VCALENDAR
