BEGIN:VCALENDAR
METHOD:PUBLISH
PRODID:https://www.sintef.no
VERSION:2.0
BEGIN:VEVENT
DESCRIPTION:How can Electric vehicles act as flexible resources in the gri
 d? Norway is in forefront of the electrification of the transport section
  having reached over 90% electrical on new cars sold
DTEND:20221031T150000
DTSTAMP:20260421T084313Z
DTSTART:20221031T140000
LOCATION:Microsoft Teams meeting
SEQUENCE:0
SUMMARY:CINELDI webinar: Electric Vehicles as sources of flexibility in th
 e grid
UID:ba7270de-5822-48bf-865e-d850b2c81a54
END:VEVENT
END:VCALENDAR
