BEGIN:VCALENDAR
METHOD:PUBLISH
PRODID:https://www.sintef.no
VERSION:2.0
BEGIN:VEVENT
DESCRIPTION:The webinar will review the main advancements made in terms of
  facilitating carbon capture and storage (CCS) operations through legal f
 rameworks\, and look ahead at the remaining gaps in order to better integ
 rate CCS operations into an increasingly integrated energy system.
DTEND:20220927T133000
DTSTAMP:20260421T100206Z
DTSTART:20220927T130000
LOCATION:Webinar
SEQUENCE:0
SUMMARY:CCS regulation: taking stake and looking ahead
UID:a69a8af7-0197-4a52-80e8-84f68e683702
END:VEVENT
END:VCALENDAR
