BEGIN:VCALENDAR
METHOD:PUBLISH
PRODID:https://www.sintef.no
VERSION:2.0
BEGIN:VEVENT
DESCRIPTION:
DTEND:20211104T173000
DTSTAMP:20260420T022707Z
DTSTART:20211104T160000
LOCATION:COP26\, Hall 4 \, PV 63\, Blue Zone\, Bellona Pavilion\, Exhibiti
 on Way\, Glasgow G3 8YW\, Storbritannia
SEQUENCE:0
SUMMARY:COP26: The role of CCS in reaching net zero by 2050
UID:80fec693-73f5-4c0e-b729-50254a739bd8
END:VEVENT
END:VCALENDAR
