BEGIN:VCALENDAR
METHOD:PUBLISH
PRODID:https://www.sintef.no
VERSION:2.0
BEGIN:VEVENT
DESCRIPTION:Workshop for HighEFF partners
DTEND:20211214T133000
DTSTAMP:20260423T000425Z
DTSTART:20211214T090000
LOCATION:Teams Workshop
SEQUENCE:0
SUMMARY:Recycling of Pot Gas from AIuminium Electrolysis Cells II
UID:f425f186-df8f-41ec-9350-473b2561da71
END:VEVENT
END:VCALENDAR
