BEGIN:VCALENDAR
METHOD:PUBLISH
PRODID:https://www.sintef.no
VERSION:2.0
BEGIN:VEVENT
DESCRIPTION:This webinar is designed to disseminate knowledge of eco-frien
 dly CO2 technology infrastructure & business models for end-of-life for r
 efrigerants\, as proposed to Indian policy makers to support India’s dome
 stic and international environmental friendly cooling priorities & loweri
 ng of HFC emissions.
DTEND:20210324T123000
DTSTAMP:20260423T000240Z
DTSTART:20210324T093000
LOCATION:
SEQUENCE:0
SUMMARY:International Webinar on  Practicality and Applicability of Natura
 l Working Fluids
UID:a01800a7-1a4f-497e-bb52-0684721e2190
END:VEVENT
END:VCALENDAR
