BEGIN:VCALENDAR
METHOD:PUBLISH
PRODID:https://www.sintef.no
VERSION:2.0
BEGIN:VEVENT
DESCRIPTION:HighEFF is starting up again its annual PhD Seminar after the 
 pandemic. The seminar will be a physical event in auditorium KJEL-5 at NT
 NU on Thursday 19 August from 09:00 to 16:00.
DTEND:20210819T160000
DTSTAMP:20260423T235904Z
DTSTART:20210819T090000
LOCATION:NTNU Gløshaugen KJEL-5
SEQUENCE:0
SUMMARY:HighEFF PhD/Post Doc seminar
UID:1b5d97ab-c4db-4dd2-8503-1ad7a2e3f841
END:VEVENT
END:VCALENDAR
