BEGIN:VCALENDAR
METHOD:PUBLISH
PRODID:https://www.sintef.no
VERSION:2.0
BEGIN:VEVENT
DESCRIPTION:The nations bordering the North Sea have long benefited from i
 ts bounty. Now these countries\, along with the rest of the world\, stand
  before a challenge on a scale never seen before. North Sea countries hav
 e a unique opportunity to use their knowledge and expertise about the are
 a to implement novel solutions to the climate crisis.
DTEND:20211109T133000
DTSTAMP:20260420T022110Z
DTSTART:20211109T120000
LOCATION:COP26\, Hall 4 \, PV 63\, Blue Zone\, Bellona Pavilion\, Exhibiti
 on Way\, Glasgow G3 8YW\, Storbritannia
SEQUENCE:0
SUMMARY:COP26: The North Sea as a springboard for the green transition
UID:7754c855-6d95-4d8c-a554-4e790771b1e7
END:VEVENT
END:VCALENDAR
