BEGIN:VCALENDAR
METHOD:PUBLISH
PRODID:https://www.sintef.no
VERSION:2.0
BEGIN:VEVENT
DESCRIPTION:In this webinar we will discuss in more detail the outcome of 
 the whitepaper that was published this summer to highlight the importance
  of Industrial Heat Pump technologies in reaching the goals of the Climat
 e Agreement.
DTEND:20201029T161500
DTSTAMP:20260423T001128Z
DTSTART:20201029T150000
LOCATION:
SEQUENCE:0
SUMMARY:Webinar - Strengthening Industrial Heat Pump Innovation in Europe
UID:7f0c63a6-71fe-45cd-abc8-30097d0c6b9a
END:VEVENT
END:VCALENDAR
