BEGIN:VCALENDAR
METHOD:PUBLISH
PRODID:https://www.sintef.no
VERSION:2.0
BEGIN:VEVENT
DESCRIPTION:
DTEND:20201015T133000
DTSTAMP:20260421T084938Z
DTSTART:20201015T130000
LOCATION:
SEQUENCE:0
SUMMARY:NCCS Webinar - Safe CO2 transport – The importance of experiments 
 and models
UID:2252b7a9-fa16-4353-be3b-3703532ba429
END:VEVENT
END:VCALENDAR
