BEGIN:VCALENDAR
METHOD:PUBLISH
PRODID:https://www.sintef.no
VERSION:2.0
BEGIN:VEVENT
DESCRIPTION:While full decarbonization of power production by Carbon free 
 fuels is awaiting development\, industrial validation\, and adapted infra
 structure of future technologies\, an opportune head start could be to di
 rectly add ammonia\, a widely transported product\, into the natural gas.
DTEND:20201202T140000
DTSTAMP:20260422T001537Z
DTSTART:20201202T130000
LOCATION:
SEQUENCE:0
SUMMARY:LowEmission Webinar - Case study Partial Decarbonization of Johan 
 Castberg by Ammonia Addition in Fuel
UID:d0943661-7095-44ad-b989-14181dcd8e33
END:VEVENT
END:VCALENDAR
