BEGIN:VCALENDAR
METHOD:PUBLISH
PRODID:https://www.sintef.no
VERSION:2.0
BEGIN:VEVENT
DESCRIPTION:The event is for HighEFF partners only.
DTEND:20200319T160000
DTSTAMP:20260423T235745Z
DTSTART:20200319T083000
LOCATION:Scandic Bakklandet\, Trondheim\, Nedre Bakklandet 60\, 7014 Trond
 heim
SEQUENCE:0
SUMMARY:Postponed - HighEFF Short course - Analysis and design of industri
 al energy recovery systems
UID:faf6310b-976e-4e21-ab46-4c2e5b376711
END:VEVENT
END:VCALENDAR
