BEGIN:VCALENDAR
METHOD:PUBLISH
PRODID:https://www.sintef.no
VERSION:2.0
BEGIN:VEVENT
DESCRIPTION:Dear HighEFF friends\, welcome to this year's HighEFF Annual C
 onsortium Meeting on 13 May - HighEFF Webinar!
DTEND:20200513T153000
DTSTAMP:20260423T000128Z
DTSTART:20200513T090000
LOCATION:
SEQUENCE:0
SUMMARY:HighEFF Annual Consortium Meeting 2020 - Webinar
UID:96578e9f-59b2-4f04-9580-8a30d54fd0fc
END:VEVENT
END:VCALENDAR
