BEGIN:VCALENDAR
METHOD:PUBLISH
PRODID:https://www.sintef.no
VERSION:2.0
BEGIN:VEVENT
DESCRIPTION:
DTEND:20191022T160000
DTSTAMP:20260423T000034Z
DTSTART:20191022T090000
LOCATION:Trondheim\, Gløshaugen
SEQUENCE:0
SUMMARY:HighEFF Energy recovery workshop: Practical vs. Academic approach 
 to improving heat-to-power conversion
UID:ff769748-25d1-4076-909d-d34a1075e764
END:VEVENT
END:VCALENDAR
