BEGIN:VCALENDAR
METHOD:PUBLISH
PRODID:https://www.sintef.no
VERSION:2.0
BEGIN:VEVENT
DESCRIPTION:Welcome to the official opening of the Norwegian Fuel Cell and
  Hydrogen Centre! The opening will take place at the SINTEF/NTNU campus o
 n Gløshaugen\, Trondheim - which also is where the low temperature node o
 f NFCH is located.
DTEND:20181106T160000
DTSTAMP:20260421T084949Z
DTSTART:20181106T090000
LOCATION:Gløshaugen\, Trondheim
SEQUENCE:0
SUMMARY:Official opening of the Norwegian Fuel Cell and Hydrogen Centre
UID:04d66869-5af2-4939-92ff-aebc4421a609
END:VEVENT
END:VCALENDAR
