BEGIN:VCALENDAR
METHOD:PUBLISH
PRODID:https://www.sintef.no
VERSION:2.0
BEGIN:VEVENT
DESCRIPTION:
DTEND:20180503T130000
DTSTAMP:20260423T000747Z
DTSTART:20180502T083000
LOCATION:Trondheim\, Kolbjørn Hejes vei 1D\, Trondheim
SEQUENCE:0
SUMMARY:FME HighEFF - Annual Consortium Meeting 2018
UID:e79c94ce-66ba-4127-8580-5bc013af4362
END:VEVENT
END:VCALENDAR
