BEGIN:VCALENDAR
METHOD:PUBLISH
PRODID:https://www.sintef.no
VERSION:2.0
BEGIN:VEVENT
DESCRIPTION:The webinar will present final results from CEMCAP
DTEND:20181029T143000
DTSTAMP:20260422T220733Z
DTSTART:20181029T130000
LOCATION:
SEQUENCE:0
SUMMARY:CEMCAP Final Webinar 2
UID:91e135d7-104f-4f30-bb35-3de3d5ef2aab
END:VEVENT
END:VCALENDAR
