BEGIN:VCALENDAR
METHOD:PUBLISH
PRODID:https://www.sintef.no
VERSION:2.0
BEGIN:VEVENT
DESCRIPTION:
DTEND:20170512T160000
DTSTAMP:20260426T013217Z
DTSTART:20170512T090000
LOCATION:Oslo
SEQUENCE:0
SUMMARY:Symposium on SiC for new applications
UID:0d0514f1-b404-4dda-b5d7-3051c21c99ab
END:VEVENT
END:VCALENDAR
