BEGIN:VCALENDAR
METHOD:PUBLISH
PRODID:https://www.sintef.no
VERSION:2.0
BEGIN:VEVENT
DESCRIPTION:Workshop on Energy Efficiency - Metals\, Materials and Industr
 y Clusters sector.
DTEND:20170424T170000
DTSTAMP:20260423T000029Z
DTSTART:20170424T093000
LOCATION:Clarion Hotel & Congress Trondheim\, Brattørkaia 1\, 7010 Trondhe
 im
SEQUENCE:0
SUMMARY:HighEFF workshop - Metal\, Material and Industry Clusters
UID:16e6d0ba-0491-43a4-9463-3219abd04d74
END:VEVENT
END:VCALENDAR
