BEGIN:VCALENDAR
METHOD:PUBLISH
PRODID:https://www.sintef.no
VERSION:2.0
BEGIN:VEVENT
DESCRIPTION:The HighEFF consortium will gather in Trondheim in October to 
 discuss the plans for 2018\, and to be updated on highlights and expectat
 ions.
DTEND:20171026T160000
DTSTAMP:20260423T235752Z
DTSTART:20171025T100000
LOCATION:Conference center Sparebank 1\, Søndre gate 4\, 7011 Trondheim
SEQUENCE:0
SUMMARY:HighEFF Cross-sector workshop
UID:5ef759d0-e2d3-4f7f-afb8-70749428ba83
END:VEVENT
END:VCALENDAR
