BEGIN:VCALENDAR
METHOD:PUBLISH
PRODID:https://www.sintef.no
VERSION:2.0
BEGIN:VEVENT
DESCRIPTION:This workshop aims at presenting the current status of high te
 mperature batteries while sparking discussion concerning the challenges\,
  solutions\, maturity and potential application. We invite you to partici
 pate and give a 20 minute presentation on your field of interest. This is
  an excellent venue for networking with industry and scientists working o
 n the field.
DTEND:20170920T150000
DTSTAMP:20260423T200743Z
DTSTART:20170919T090000
LOCATION:Scandic Lerkendal\, Trondheim\, Norway\, Klæbuveien 127\, Trondhe
 im
SEQUENCE:0
SUMMARY:High Temperature Batteries for Stationary Energy Storage Workshop
UID:7340e8e3-a73f-4c43-baac-3e6dc668d6f8
END:VEVENT
END:VCALENDAR
