BEGIN:VCALENDAR
METHOD:PUBLISH
PRODID:https://www.sintef.no
VERSION:2.0
BEGIN:VEVENT
DESCRIPTION:START building your consortium with excellent partners in the 
 field of bioenergy NOW.
DTEND:20170913T163000
DTSTAMP:20260425T175346Z
DTSTART:20170913T083000
LOCATION:Brussels
SEQUENCE:0
SUMMARY:Design and get involved in the next H2020 bioenergy proposals
UID:7ea1d60d-532e-4a1f-afc9-9126a48a70c6
END:VEVENT
END:VCALENDAR
