BEGIN:VCALENDAR
METHOD:PUBLISH
PRODID:https://www.sintef.no
VERSION:2.0
BEGIN:VEVENT
DESCRIPTION:A forum for researchers and practitioners to present the lates
 t research results\, ongoing developments\, best practices and applicatio
 ns related to the complex environment of hydro scheduling and its surroun
 dings.
DTEND:20150918T160000
DTSTAMP:20260421T115056Z
DTSTART:20150917T083000
LOCATION:Britannia Hotel\, Dronningens gate 5 \,   7011 Trondheim
SEQUENCE:0
SUMMARY:5th International Workshop on  Hydro Scheduling in Competitive Ele
 ctricity Markets
UID:af99751b-6789-48d4-95d5-50ad9cd276e5
END:VEVENT
END:VCALENDAR
