BEGIN:VCALENDAR
METHOD:PUBLISH
PRODID:https://www.sintef.no
VERSION:2.0
BEGIN:VEVENT
DESCRIPTION:Bli med UNCDF og SINTEF på webinar for å utforske hvordan dris
 tige konsepter kan bli til praktiske løsninger – på tvers av teknologi\, 
 politikk\, finans og samarbeid.
DTEND:20260429T150000
DTSTAMP:20260422T193144Z
DTSTART:20260429T140000
LOCATION:Webinar
SEQUENCE:0
SUMMARY:Utsatt: Hvordan bygger vi klimarobuste lokalsamfunn?
UID:ceb58bbb-19eb-43ff-af5a-d3fc41165832
END:VEVENT
END:VCALENDAR
