BEGIN:VCALENDAR
METHOD:PUBLISH
PRODID:https://www.sintef.no
VERSION:2.0
BEGIN:VEVENT
DESCRIPTION:Påmeldingsfrist: 18.05.2026\n\nI juni holder SINTEF kurs i pra
 ktisk bygningsfysikk i Bergen. Tema er fuktsikring av fasader og tak\, me
 d spesielt blikk på håndtering av regn.
DTEND:20260603T160000
DTSTAMP:20260422T193315Z
DTSTART:20260603T090000
LOCATION:Raddison Blu Hotell Bergen\, Dreggsallmenningen 1
SEQUENCE:0
SUMMARY:Praktisk bygningsfysikk med fokus på fuktsikkerhet
UID:1074d599-6808-4c12-bb13-4b7c2db039ef
END:VEVENT
END:VCALENDAR
