BEGIN:VCALENDAR
METHOD:PUBLISH
PRODID:https://www.sintef.no
VERSION:2.0
BEGIN:VEVENT
DESCRIPTION:Påmeldingsfrist: 25.04.2026\n\nSINTEF har gleden av å invitere
  deg til konferansen PortAI 2026\, der vi setter søkelys på hvordan digit
 alisering og kunstig intelligens (KI) former fremtidens havner.
DTEND:20260429T160000
DTSTAMP:20260424T160615Z
DTSTART:20260429T093000
LOCATION:Energibygget\, Gløshaugen\, NTNU\, Trondheim\, Sem Sælands vei 11
 \, Trondheim
SEQUENCE:0
SUMMARY:PortAI 2026: Fremtidens havner i en digital tidsalder
UID:70c8747a-f4f2-477a-af2a-daff628fbbf0
END:VEVENT
END:VCALENDAR
