BEGIN:VCALENDAR
METHOD:PUBLISH
PRODID:https://www.sintef.no
VERSION:2.0
BEGIN:VEVENT
DESCRIPTION:Påmeldingsfrist: 06.04.2026\n\nMøte for alle brukere av SINTEF
 s modeller for produksjonsplanlegging av vannkraft.
DTEND:20260506T150000
DTSTAMP:20260422T003954Z
DTSTART:20260505T090000
LOCATION:Quality Hotel Prinsen\, Kongensgate 30\, 7012 Trondheim
SEQUENCE:0
SUMMARY:Hydropower Scheduling User meeting 2026
UID:2b4b7e6a-4db9-4145-bfca-902a03cea6f2
END:VEVENT
END:VCALENDAR
