BEGIN:VCALENDAR
METHOD:PUBLISH
PRODID:https://www.sintef.no
VERSION:2.0
BEGIN:VEVENT
DESCRIPTION:Det er mye ressurser i Norge som kan bli til fôr. Men hvordan 
 kan det bli store volum ut av det?
DTEND:20260428T095000
DTSTAMP:20260419T122439Z
DTSTART:20260428T090000
LOCATION:Webinar
SEQUENCE:0
SUMMARY:Hvor mye nytt fôr kan vi få til i Norge?
UID:f935583d-05ea-427d-9f53-fee635629fd8
END:VEVENT
END:VCALENDAR
