BEGIN:VCALENDAR
METHOD:PUBLISH
PRODID:https://www.sintef.no
VERSION:2.0
BEGIN:VEVENT
DESCRIPTION:DigiPro Centres femte fysiske medlemssamling arrangeres onsdag
  22. april med påfølgende «5th Conference on Digitalisation for Sustainab
 le Process Industries» dagen etter\, torsdag 23. april.
DTEND:20260422T160000
DTSTAMP:20260420T140452Z
DTSTART:20260422T083000
LOCATION:Jotun AS - Hovedkontor\, Sandefjord\, Hystadveien 167\, 3209 Sand
 efjord\, Norway
SEQUENCE:0
SUMMARY:DigiPro Centre medlemssamling 2026
UID:79bcd4bd-9c90-4ffb-b9b0-e978484898b3
END:VEVENT
END:VCALENDAR
