BEGIN:VCALENDAR
METHOD:PUBLISH
PRODID:https://www.sintef.no
VERSION:2.0
BEGIN:VEVENT
DESCRIPTION:Helhetlig fôrsystem – alt henger sammen med alt.
DTEND:20260421T095500
DTSTAMP:20260419T122032Z
DTSTART:20260421T090000
LOCATION:Webinar
SEQUENCE:0
SUMMARY:Bærekraftig fôrproduksjon på norske ressurser til oppdrettsfisk og
  husdyr i jordbruket
UID:07aa6e10-671e-49cb-a9b5-bf318941803f
END:VEVENT
END:VCALENDAR
