BEGIN:VCALENDAR
METHOD:PUBLISH
PRODID:https://www.sintef.no
VERSION:2.0
BEGIN:VEVENT
DESCRIPTION:Alt fôr som brukes i Norge i 2034 skal være bærekraftig. I det
 te ligger både miljømessige\, sosiale og økonomiske hensyn.
DTEND:20260505T095500
DTSTAMP:20260419T122032Z
DTSTART:20260505T090000
LOCATION:Webinar
SEQUENCE:0
SUMMARY:Bærekraft for hvem og hva?
UID:1deb3315-1422-49fb-86ac-f239690e14bf
END:VEVENT
END:VCALENDAR
