BEGIN:VCALENDAR
METHOD:PUBLISH
PRODID:https://www.sintef.no
VERSION:2.0
BEGIN:VEVENT
DESCRIPTION:NIVA og SINTEF Ocean inviterer til informasjonswebinar om utly
 ste kaskadefinansieringsmuligheter i EUs samfunnsoppdrag Sunne hav og van
 n innen 2030.
DTEND:20260209T131500
DTSTAMP:20260421T100653Z
DTSTART:20260209T120000
LOCATION:Webinar
SEQUENCE:0
SUMMARY:Vil du søke støtte til lokale tiltak for sunne hav og vann?
UID:923ba94d-da88-4f7e-89fe-5d31e0b3172c
END:VEVENT
END:VCALENDAR
