BEGIN:VCALENDAR
METHOD:PUBLISH
PRODID:https://www.sintef.no
VERSION:2.0
BEGIN:VEVENT
DESCRIPTION:Påmeldingsfrist: 08.04.2026\n\nHvordan kan robotikk\, autonome
  systemer og kunstig intelligens bidra til økt robusthet i kritisk infras
 truktur? Denne workshopen samler sentrale aktører for å identifisere fell
 es utfordringer\, dele erfaringer og utvikle konkrete samarbeids- og pros
 jektmuligheter innen beskyttelse\, inspeksjon og vedlikehold.
DTEND:20260409T160000
DTSTAMP:20260419T125019Z
DTSTART:20260409T093000
LOCATION:Radisson Blu Airport Hotel\, Oslo Gardermoen\, Hotellvegen\, 2060
  Gardermoen
SEQUENCE:0
SUMMARY:Innovasjonsworkshop: Robotikk\, kunstig intelligens og kritisk inf
 rastruktur – synergi mellom sikring\, inspeksjon og vedlikehold
UID:579400bd-787d-4178-8c3d-1f794708c38b
END:VEVENT
END:VCALENDAR
