BEGIN:VCALENDAR
METHOD:PUBLISH
PRODID:https://www.sintef.no
VERSION:2.0
BEGIN:VEVENT
DESCRIPTION:Påmeldingsfrist: 27.02.2026\n\nLean som nøkkel til endringsdyk
 tighet\, læring og gjennomføring
DTEND:20260305T150000
DTSTAMP:20260421T185449Z
DTSTART:20260305T090000
LOCATION:Statens hus \, Prinsens gate 1
SEQUENCE:0
SUMMARY:LEANDAGEN TRONDHEIM 2026
UID:e0497fa2-2a6e-4181-81e1-764abba7d424
END:VEVENT
END:VCALENDAR
