BEGIN:VCALENDAR
METHOD:PUBLISH
PRODID:https://www.sintef.no
VERSION:2.0
BEGIN:VEVENT
DESCRIPTION:Påmeldingsfrist: 07.05.2026\n\nSINTEF inviterer til kurset Ind
 ustrilederskolen: en teoretisk og praktisk innføring i Lean med vekt på å
  identifisere og redusere tap i produksjonen.
DTEND:20260605T160000
DTSTAMP:20260421T085936Z
DTSTART:20260601T080000
LOCATION:Overhalla Betongbygg avd. Verdal\, Hamnevegen 2\, 7652 Verdal
SEQUENCE:0
SUMMARY:Industrilederskolen
UID:f605679b-21ca-44df-a7a7-29ddfa175c73
END:VEVENT
END:VCALENDAR
