BEGIN:VCALENDAR
METHOD:PUBLISH
PRODID:https://www.sintef.no
VERSION:2.0
BEGIN:VEVENT
DESCRIPTION:SINTEF inviterer til kurset Industrilederskolen: en teoretisk 
 og praktisk innføring i Lean med vekt på å identifisere og redusere tap i
  produksjonen.
DTEND:20260227T160000
DTSTAMP:20260421T185611Z
DTSTART:20260223T080000
LOCATION:Trox Auranor\, Auranorvegen 6\, 2770 Jaren
SEQUENCE:0
SUMMARY:Industrilederskolen
UID:77518865-c98e-4edd-9aa7-4f91dd812db3
END:VEVENT
END:VCALENDAR
