BEGIN:VCALENDAR
METHOD:PUBLISH
PRODID:https://www.sintef.no
VERSION:2.0
BEGIN:VEVENT
DESCRIPTION:Påmeldingsfrist: 25.11.2025\n\nSINTEF Ocean og Codcluster arra
 ngerer webinar 25.11 for å diskutere forståelse av spiselig andel og omre
 gningsfaktorer i sjømatnæringen. Ulike tolkning av spiselig andel og omre
 gningsfaktorer gjør det vanskelig å sammenligne tall\, dokumentere klimaf
 otavtrykk og beregne matsvinn på en troverdig måte.
DTEND:20251125T104500
DTSTAMP:20260421T103718Z
DTSTART:20251125T100000
LOCATION:Teams
SEQUENCE:0
SUMMARY:Webinar: Én fiskeart – én fasit? Felles forståelse av spiselig and
 el og omregningsfaktorer i sjømatnæringen
UID:c9a88caa-4cd2-4827-aa95-7257f5475c42
END:VEVENT
END:VCALENDAR
