BEGIN:VCALENDAR
METHOD:PUBLISH
PRODID:https://www.sintef.no
VERSION:2.0
BEGIN:VEVENT
DESCRIPTION:Påmeldingsfrist: 01.11.2025\n\nSeminaret vil inneholde faglige
  innlegg fra NTNU\, UiO\, SINTEF og representanter fra industrien\, med f
 okus på ny forskning og samarbeid innen hydrometallurgi og vannbasert pro
 sessteknologi.
DTEND:20251112T153000
DTSTAMP:20260421T190527Z
DTSTART:20251112T093000
LOCATION:Thon Hotel Vika Atrium\, Munkedamsveien 45\, 0250 Oslo
SEQUENCE:0
SUMMARY:Velkommen til årets HyProS-seminar
UID:7298a97a-797c-4180-8a62-290aecbcf199
END:VEVENT
END:VCALENDAR
