BEGIN:VCALENDAR
METHOD:PUBLISH
PRODID:https://www.sintef.no
VERSION:2.0
BEGIN:VEVENT
DESCRIPTION:Bursdagsbarnet SINTEF inviterer til en gratis utstilling der v
 i gjengir noe av det vi har skapt fra 1950 til i dag.
DTEND:20251231T120000
DTSTAMP:20260423T183828Z
DTSTART:20250128T110000
LOCATION: NTNU Realfagbiblioteket\, Trondheim\, Høgskoleringen 5\, 7034 Tr
 ondheim
SEQUENCE:0
SUMMARY:Utstilling: En vandring gjennom SINTEFs 75-årige historie (hele 20
 25)
UID:daf79a0e-9344-4b8e-86a4-953ddb0ee9d5
END:VEVENT
END:VCALENDAR
