BEGIN:VCALENDAR
METHOD:PUBLISH
PRODID:https://www.sintef.no
VERSION:2.0
BEGIN:VEVENT
DESCRIPTION:Påmeldingsfrist: 28.01.2025\n\nBoklansering og 75-årsjubileum:
  Hvordan har Trondheim blitt en verdensledende teknologiby\, og hva kan v
 i lære av historiene bak suksessen?
DTEND:20250128T210000
DTSTAMP:20260423T170926Z
DTSTART:20250128T190000
LOCATION:Litteraturhuset i Trondheim\, Trondheim folkebibliotek\, Kulturto
 rget\, Kongens gate 2\, 7011 Trondheim
SEQUENCE:0
SUMMARY:Teknologien som formet Norge (Trondheim)
UID:e2b373d4-e637-4c0c-b79f-40a88c9d439b
END:VEVENT
END:VCALENDAR
