BEGIN:VCALENDAR
METHOD:PUBLISH
PRODID:https://www.sintef.no
VERSION:2.0
BEGIN:VEVENT
DESCRIPTION:Påmeldingsfrist: 25.11.2025\n\nEtterpåklok på forhånd – teknol
 ogi\, tall og tillit som former sjøbasert lakseoppdrett mot 2030.
DTEND:20251203T133000
DTSTAMP:20260421T103155Z
DTSTART:20251202T083000
LOCATION:Clarion Hotel & Congress Trondheim\, Brattørkaia 1
SEQUENCE:0
SUMMARY:TEKMAR
UID:76435272-28c1-4326-a446-502bf1924981
END:VEVENT
END:VCALENDAR
