BEGIN:VCALENDAR
METHOD:PUBLISH
PRODID:https://www.sintef.no
VERSION:2.0
BEGIN:VEVENT
DESCRIPTION:Påmeldingsfrist: 04.09.2025\n\nLær å stille relevante og presi
 se krav i prosjekter som omhandler datadrevet bygningsdrift. Fokus vil væ
 re på ventilasjonsanlegg.
DTEND:20250916T131500
DTSTAMP:20260423T205858Z
DTSTART:20250916T083000
LOCATION:Oslo\, Børrestuveien 3
SEQUENCE:0
SUMMARY:Systematisk avviksdetektering og optimalisering av ventilasjonsanl
 egg
UID:8a785da7-87fb-429a-b54e-11efba353909
END:VEVENT
END:VCALENDAR
