BEGIN:VCALENDAR
METHOD:PUBLISH
PRODID:https://www.sintef.no
VERSION:2.0
BEGIN:VEVENT
DESCRIPTION:Påmeldingsfrist: 20.11.2025\n\nKonferansen ønsker å spre og de
 le kunnskap og løsninger fra europeiske prosjekter innen EU’s samfunnsopp
 drag Mission Restore our Ocean and Waters by 2030 og andre relevante Hori
 sont Europa prosjekter og utforske hvordan disse kan tas i bruk i Norge\,
  både av næringsliv og av lokale og nasjonale aktører.
DTEND:20251204T170000
DTSTAMP:20260424T092539Z
DTSTART:20251203T180000
LOCATION:Radisson Blu Royal Garden Hotel Trondheim\, Kjøpmannsgata 73\, 70
 10 Trondheim
SEQUENCE:0
SUMMARY:Sunne hav og vann innen 2030
UID:df79d019-d650-4b81-bb3f-1c554c9b2d51
END:VEVENT
END:VCALENDAR
