BEGIN:VCALENDAR
METHOD:PUBLISH
PRODID:https://www.sintef.no
VERSION:2.0
BEGIN:VEVENT
DESCRIPTION:Påmeldingsfrist: 22.04.2026\n\nLær av SINTEFs erfaring med byg
 gskader.
DTEND:20260423T160000
DTSTAMP:20260422T193047Z
DTSTART:20260423T120000
LOCATION:SINTEF Community\, Oslo\, Børrestuveien 3
SEQUENCE:0
SUMMARY:SINTEFs Byggskadedag 2026
UID:185895a7-6272-4bee-8345-250958fc7b97
END:VEVENT
END:VCALENDAR
