BEGIN:VCALENDAR
METHOD:PUBLISH
PRODID:https://www.sintef.no
VERSION:2.0
BEGIN:VEVENT
DESCRIPTION:SINTEF Energi og NTNU Energi har arrangert felles energiarrang
 ementer under Arendalsuka siden 2017. I år utvider vi satsingen og tilbyr
  et bredt program gjennom nesten hele uka. Programmet oppdateres fortløpe
 nde.
DTEND:20250814T120000
DTSTAMP:20260420T030227Z
DTSTART:20250812T081500
LOCATION:Arendal
SEQUENCE:0
SUMMARY:SINTEF og NTNU: Energidager Arendalsuka 2025
UID:2dac6b59-1b26-4d28-bd65-25064196e8ab
END:VEVENT
END:VCALENDAR
